BEGIN:VCALENDAR
VERSION:2.0
PRODID:-//MCK Płońsk - ECPv6.15.17.1//NONSGML v1.0//EN
CALSCALE:GREGORIAN
METHOD:PUBLISH
X-ORIGINAL-URL:https://www.mckplonsk.pl
X-WR-CALDESC:Wydarzenia dla MCK Płońsk
REFRESH-INTERVAL;VALUE=DURATION:PT1H
X-Robots-Tag:noindex
X-PUBLISHED-TTL:PT1H
BEGIN:VTIMEZONE
TZID:UTC
BEGIN:STANDARD
TZOFFSETFROM:+0000
TZOFFSETTO:+0000
TZNAME:UTC
DTSTART:20230101T000000
END:STANDARD
END:VTIMEZONE
BEGIN:VEVENT
DTSTART;TZID=UTC:20240611T180000
DTEND;TZID=UTC:20240611T200000
DTSTAMP:20260420T200228
CREATED:20240520T132132Z
LAST-MODIFIED:20240520T132132Z
UID:10011-1718128800-1718136000@www.mckplonsk.pl
SUMMARY:Swing Club na Mazowszu
DESCRIPTION:Na koneserów muzyki jazzowej czeka kolejna odsłona Swing Club na Mazowszu. W drugim koncercie tegorocznej edycji we wtorek 11 czerwca o godz. 18.00 w sali widowiskowo-kinowej wystąpi Rafał Dubicki Quartet. Zespół ten to klasyczny kwartet jazzowy wzbogacony o elektroniczne\, klawiszowe brzmienia oraz gitarę basową\, pozwalającą na wycieczki w stronę rocka czy fusion.\nBilety – 20 zł . Sprzedaż w kasie lub na Kup bilet od środy\, 22 maja\, godz. 14.30. \nKoncert to połączenie różnorodnej melodyjnej muzyki jazzowej i filmowej. Zespół Rafał Dubicki Quartet to klasyczny kwartet jazzowy wzbogacony o elektroniczne\, klawiszowe brzmienia oraz gitarę basową\, pozwalającą na wycieczki w stronę rocka czy fusion.\nRafał Dubicki to kompozytor i trębacz\, który zachwyca dźwiękiem. Podjął się niełatwego zadania\, by przekonać słuchaczy\, że jazzowa muzyka instrumentalna jest nie tylko dla elit. W swojej twórczości łączy ze sobą trudne dźwięki z rozrywkową nutą\, tworząc m.in. muzykę filmową. Muzyka Rafała Dubickiego to fuzja wielu gatunków\, począwszy od klasycznych jazzowych brzmień po nowoczesne elektroniczne rozwiązania. Główną cechą kompozytora i trębacza jest melodyjność utworów. Melodia stanowi nadrzędny element każdej kompozycji\, pozostaje w świadomości odbiorcy na długi czas. Do wielu z utworów Dubickiego powstały teledyski\, pokazując wykorzystanie tej muzyki w wersji filmowej\, obrazowej. \nWykonawcy:\nRAFAŁ DUBICKI QUARTET\nRafał Dubicki – trąbka\, flugelhorn\nMateusz Gramburg – fortepian\, instrumenty klawiszowe\nMateusz Woźniak – kontrabas\, gitara basowa\nAdam Lewandowski – perkusja\, instrumenty perkusyjne: \nRafał Dubicki – absolwent Akademii Muzycznej im. Feliksa Nowowiejskiego w Bydgoszczy na wydziale Jazzu i Muzyki Estradowej. Trębacz współpracujący z wieloma polskimi i zagranicznymi muzykami\, m.in.: Ray Wilson & Genesis Orchestra\, Alex Band Aleksandra Maliszewskiego\, Eljazz Big Band\, Pendofsky\, Michał Sołtan. Nagrał również muzykę filmową do nagrodzonego w Gdyni filmu Jestem Mordercą. Uczestnik oraz laureat wielu jazzowych konkursów w Polsce. W roku 2019 nagrał i wydał autorską płytę Story About Emotions. W roku 2021 ukazał się jego drugi album Shadow On The Space. \nMateusz Gramburg – pianista\, absolwent Akademii Muzycznej w Katowicach na wydziale jazzu. Naukę pobierał m.in. u Andrzeja Jagodzińskiego\, Michała Tokaja\, Zbigniewa Namysłowskiego. Jako członek zespołu Bednarska SuperBand pod kierownictwem Namysłowskiego był uczestnikiem dwóch edycji na festiwalu Jazz Rally w Dusseldorfie. W roku 2012 zaaranżował muzykę do spektaklu Piękna Lucynda (reż. Beata Redo-Dobber\, Teatr Rampa). \nMateusz Woźniak – kontrabasista\, absolwent Akademii Muzycznej im. G. i K. Bacewiczów w Łodzi oraz Akademii Muzycznej im. I.J. Paderewskiego w Poznaniu. Jako muzyk orkiestrowy i klasyczny współpracuje z licznymi instytucjami kultury i orkiestrami. Drugim aspektem artystycznej działalności Mateusza Woźniaka jest szeroko pojęta muzyka jazzowa oraz rozrywkowa. Wyraża się w niej zarówno za pomocą kontrabasu\, jak i gitary basowej. \nAdam Lewandowski – gra na perkusji i instrumentach perkusyjnych. Na profesjonalnej scenie jazzowej zadebiutował w Trio Marka Blizińskiego w 1977 roku. W latach 1981–84 grał w zespole Zbigniewa Namysłowskiego Air Condition\, na festiwalu Jazz Jamboree w 1983 roku wystąpił przed Milesem Davisem. Współpracował z Trio Janusza Strobla\, Trio Włodka Pawlika\, Wojciechem Karolakiem\, Andrzejem Jagodzińskim. Współtworzył Radio Jazz – pierwszą polską stację radiową grającą muzykę jazzową. Nagrywał muzykę do wielu filmów. Współpracował również ze Zbigniewem Wodeckim\, Anną German\, Martyną Jakubowicz\, grupą VOX. Obecnie grywa w Teatrze Buffo oraz w Teatrze Polonia. Odznaczony medalem Gloria Artis. \nOrganizator: Mazowiecki Instytut Kultury\nWspółorganizator: Miejskie Centrum Kultury w Płońsku\nWspółfinansowano ze środków ZAW STOART
URL:https://www.mckplonsk.pl/wydarzenia/swing-club-na-mazowszu-5/
ATTACH;FMTTYPE=image/jpeg:https://www.mckplonsk.pl/wp-content/uploads/2024/05/B1-plakat-MIK-SCnM-Plonsk-06-2024.jpg
END:VEVENT
END:VCALENDAR